BEGIN:VCALENDAR
VERSION:2.0
PRODID:-//Maple Creek HOA - ECPv6.15.12.2//NONSGML v1.0//EN
CALSCALE:GREGORIAN
METHOD:PUBLISH
X-ORIGINAL-URL:https://maplecreekhoa.com
X-WR-CALDESC:Events for Maple Creek HOA
REFRESH-INTERVAL;VALUE=DURATION:PT1H
X-Robots-Tag:noindex
X-PUBLISHED-TTL:PT1H
BEGIN:VTIMEZONE
TZID:America/New_York
BEGIN:DAYLIGHT
TZOFFSETFROM:-0500
TZOFFSETTO:-0400
TZNAME:EDT
DTSTART:20250309T070000
END:DAYLIGHT
BEGIN:STANDARD
TZOFFSETFROM:-0400
TZOFFSETTO:-0500
TZNAME:EST
DTSTART:20251102T060000
END:STANDARD
BEGIN:DAYLIGHT
TZOFFSETFROM:-0500
TZOFFSETTO:-0400
TZNAME:EDT
DTSTART:20260308T070000
END:DAYLIGHT
BEGIN:STANDARD
TZOFFSETFROM:-0400
TZOFFSETTO:-0500
TZNAME:EST
DTSTART:20261101T060000
END:STANDARD
BEGIN:DAYLIGHT
TZOFFSETFROM:-0500
TZOFFSETTO:-0400
TZNAME:EDT
DTSTART:20270314T070000
END:DAYLIGHT
BEGIN:STANDARD
TZOFFSETFROM:-0400
TZOFFSETTO:-0500
TZNAME:EST
DTSTART:20271107T060000
END:STANDARD
END:VTIMEZONE
BEGIN:VEVENT
DTSTART;TZID=America/New_York:20260429T190000
DTEND;TZID=America/New_York:20260429T200000
DTSTAMP:20260420T234012
CREATED:20170612T193903Z
LAST-MODIFIED:20170612T193903Z
UID:871-1777489200-1777492800@maplecreekhoa.com
SUMMARY:Book Club
DESCRIPTION:Weekly book club meeting at the community clubhouse. This club meets every week on Wednesday and lasts about an hour or so depending on what we are discussing.
URL:https://maplecreekhoa.com/event/book-club-2026-04-29/
LOCATION:Clubhouse\, Deer Valley Dr\, Cornelius\, NC\, 28031\, United States
END:VEVENT
BEGIN:VEVENT
DTSTART;TZID=America/New_York:20260506T190000
DTEND;TZID=America/New_York:20260506T200000
DTSTAMP:20260420T234012
CREATED:20170612T193903Z
LAST-MODIFIED:20170612T193903Z
UID:872-1778094000-1778097600@maplecreekhoa.com
SUMMARY:Book Club
DESCRIPTION:Weekly book club meeting at the community clubhouse. This club meets every week on Wednesday and lasts about an hour or so depending on what we are discussing.
URL:https://maplecreekhoa.com/event/book-club-2026-05-06/
LOCATION:Clubhouse\, Deer Valley Dr\, Cornelius\, NC\, 28031\, United States
END:VEVENT
BEGIN:VEVENT
DTSTART;TZID=America/New_York:20260513T190000
DTEND;TZID=America/New_York:20260513T200000
DTSTAMP:20260420T234012
CREATED:20170612T193903Z
LAST-MODIFIED:20170612T193903Z
UID:873-1778698800-1778702400@maplecreekhoa.com
SUMMARY:Book Club
DESCRIPTION:Weekly book club meeting at the community clubhouse. This club meets every week on Wednesday and lasts about an hour or so depending on what we are discussing.
URL:https://maplecreekhoa.com/event/book-club-2026-05-13/
LOCATION:Clubhouse\, Deer Valley Dr\, Cornelius\, NC\, 28031\, United States
END:VEVENT
BEGIN:VEVENT
DTSTART;TZID=America/New_York:20260520T190000
DTEND;TZID=America/New_York:20260520T200000
DTSTAMP:20260420T234012
CREATED:20170612T193903Z
LAST-MODIFIED:20170612T193903Z
UID:874-1779303600-1779307200@maplecreekhoa.com
SUMMARY:Book Club
DESCRIPTION:Weekly book club meeting at the community clubhouse. This club meets every week on Wednesday and lasts about an hour or so depending on what we are discussing.
URL:https://maplecreekhoa.com/event/book-club-2026-05-20/
LOCATION:Clubhouse\, Deer Valley Dr\, Cornelius\, NC\, 28031\, United States
END:VEVENT
BEGIN:VEVENT
DTSTART;TZID=America/New_York:20260527T190000
DTEND;TZID=America/New_York:20260527T200000
DTSTAMP:20260420T234012
CREATED:20170612T193903Z
LAST-MODIFIED:20170612T193903Z
UID:875-1779908400-1779912000@maplecreekhoa.com
SUMMARY:Book Club
DESCRIPTION:Weekly book club meeting at the community clubhouse. This club meets every week on Wednesday and lasts about an hour or so depending on what we are discussing.
URL:https://maplecreekhoa.com/event/book-club-2026-05-27/
LOCATION:Clubhouse\, Deer Valley Dr\, Cornelius\, NC\, 28031\, United States
END:VEVENT
BEGIN:VEVENT
DTSTART;TZID=America/New_York:20260603T190000
DTEND;TZID=America/New_York:20260603T200000
DTSTAMP:20260420T234012
CREATED:20170612T193903Z
LAST-MODIFIED:20170612T193903Z
UID:876-1780513200-1780516800@maplecreekhoa.com
SUMMARY:Book Club
DESCRIPTION:Weekly book club meeting at the community clubhouse. This club meets every week on Wednesday and lasts about an hour or so depending on what we are discussing.
URL:https://maplecreekhoa.com/event/book-club-2026-06-03/
LOCATION:Clubhouse\, Deer Valley Dr\, Cornelius\, NC\, 28031\, United States
END:VEVENT
BEGIN:VEVENT
DTSTART;TZID=America/New_York:20260610T190000
DTEND;TZID=America/New_York:20260610T200000
DTSTAMP:20260420T234012
CREATED:20170612T193903Z
LAST-MODIFIED:20170612T193903Z
UID:877-1781118000-1781121600@maplecreekhoa.com
SUMMARY:Book Club
DESCRIPTION:Weekly book club meeting at the community clubhouse. This club meets every week on Wednesday and lasts about an hour or so depending on what we are discussing.
URL:https://maplecreekhoa.com/event/book-club-2026-06-10/
LOCATION:Clubhouse\, Deer Valley Dr\, Cornelius\, NC\, 28031\, United States
END:VEVENT
BEGIN:VEVENT
DTSTART;TZID=America/New_York:20260617T190000
DTEND;TZID=America/New_York:20260617T200000
DTSTAMP:20260420T234012
CREATED:20170612T193903Z
LAST-MODIFIED:20170612T193903Z
UID:878-1781722800-1781726400@maplecreekhoa.com
SUMMARY:Book Club
DESCRIPTION:Weekly book club meeting at the community clubhouse. This club meets every week on Wednesday and lasts about an hour or so depending on what we are discussing.
URL:https://maplecreekhoa.com/event/book-club-2026-06-17/
LOCATION:Clubhouse\, Deer Valley Dr\, Cornelius\, NC\, 28031\, United States
END:VEVENT
BEGIN:VEVENT
DTSTART;TZID=America/New_York:20260624T190000
DTEND;TZID=America/New_York:20260624T200000
DTSTAMP:20260420T234012
CREATED:20170612T193903Z
LAST-MODIFIED:20170612T193903Z
UID:879-1782327600-1782331200@maplecreekhoa.com
SUMMARY:Book Club
DESCRIPTION:Weekly book club meeting at the community clubhouse. This club meets every week on Wednesday and lasts about an hour or so depending on what we are discussing.
URL:https://maplecreekhoa.com/event/book-club-2026-06-24/
LOCATION:Clubhouse\, Deer Valley Dr\, Cornelius\, NC\, 28031\, United States
END:VEVENT
BEGIN:VEVENT
DTSTART;TZID=America/New_York:20260701T190000
DTEND;TZID=America/New_York:20260701T200000
DTSTAMP:20260420T234012
CREATED:20170612T193903Z
LAST-MODIFIED:20170612T193903Z
UID:880-1782932400-1782936000@maplecreekhoa.com
SUMMARY:Book Club
DESCRIPTION:Weekly book club meeting at the community clubhouse. This club meets every week on Wednesday and lasts about an hour or so depending on what we are discussing.
URL:https://maplecreekhoa.com/event/book-club-2026-07-01/
LOCATION:Clubhouse\, Deer Valley Dr\, Cornelius\, NC\, 28031\, United States
END:VEVENT
BEGIN:VEVENT
DTSTART;TZID=America/New_York:20260708T190000
DTEND;TZID=America/New_York:20260708T200000
DTSTAMP:20260420T234012
CREATED:20170612T193903Z
LAST-MODIFIED:20170612T193903Z
UID:881-1783537200-1783540800@maplecreekhoa.com
SUMMARY:Book Club
DESCRIPTION:Weekly book club meeting at the community clubhouse. This club meets every week on Wednesday and lasts about an hour or so depending on what we are discussing.
URL:https://maplecreekhoa.com/event/book-club-2026-07-08/
LOCATION:Clubhouse\, Deer Valley Dr\, Cornelius\, NC\, 28031\, United States
END:VEVENT
BEGIN:VEVENT
DTSTART;TZID=America/New_York:20260715T190000
DTEND;TZID=America/New_York:20260715T200000
DTSTAMP:20260420T234012
CREATED:20170612T193903Z
LAST-MODIFIED:20170612T193903Z
UID:883-1784142000-1784145600@maplecreekhoa.com
SUMMARY:Book Club
DESCRIPTION:Weekly book club meeting at the community clubhouse. This club meets every week on Wednesday and lasts about an hour or so depending on what we are discussing.
URL:https://maplecreekhoa.com/event/book-club-2026-07-15/
LOCATION:Clubhouse\, Deer Valley Dr\, Cornelius\, NC\, 28031\, United States
END:VEVENT
BEGIN:VEVENT
DTSTART;TZID=America/New_York:20260722T190000
DTEND;TZID=America/New_York:20260722T200000
DTSTAMP:20260420T234012
CREATED:20170612T193903Z
LAST-MODIFIED:20170612T193903Z
UID:884-1784746800-1784750400@maplecreekhoa.com
SUMMARY:Book Club
DESCRIPTION:Weekly book club meeting at the community clubhouse. This club meets every week on Wednesday and lasts about an hour or so depending on what we are discussing.
URL:https://maplecreekhoa.com/event/book-club-2026-07-22/
LOCATION:Clubhouse\, Deer Valley Dr\, Cornelius\, NC\, 28031\, United States
END:VEVENT
BEGIN:VEVENT
DTSTART;TZID=America/New_York:20260729T190000
DTEND;TZID=America/New_York:20260729T200000
DTSTAMP:20260420T234012
CREATED:20170612T193903Z
LAST-MODIFIED:20170612T193903Z
UID:885-1785351600-1785355200@maplecreekhoa.com
SUMMARY:Book Club
DESCRIPTION:Weekly book club meeting at the community clubhouse. This club meets every week on Wednesday and lasts about an hour or so depending on what we are discussing.
URL:https://maplecreekhoa.com/event/book-club-2026-07-29/
LOCATION:Clubhouse\, Deer Valley Dr\, Cornelius\, NC\, 28031\, United States
END:VEVENT
BEGIN:VEVENT
DTSTART;TZID=America/New_York:20260805T190000
DTEND;TZID=America/New_York:20260805T200000
DTSTAMP:20260420T234012
CREATED:20170612T193903Z
LAST-MODIFIED:20170612T193903Z
UID:886-1785956400-1785960000@maplecreekhoa.com
SUMMARY:Book Club
DESCRIPTION:Weekly book club meeting at the community clubhouse. This club meets every week on Wednesday and lasts about an hour or so depending on what we are discussing.
URL:https://maplecreekhoa.com/event/book-club-2026-08-05/
LOCATION:Clubhouse\, Deer Valley Dr\, Cornelius\, NC\, 28031\, United States
END:VEVENT
BEGIN:VEVENT
DTSTART;TZID=America/New_York:20260812T190000
DTEND;TZID=America/New_York:20260812T200000
DTSTAMP:20260420T234012
CREATED:20170612T193903Z
LAST-MODIFIED:20170612T193903Z
UID:887-1786561200-1786564800@maplecreekhoa.com
SUMMARY:Book Club
DESCRIPTION:Weekly book club meeting at the community clubhouse. This club meets every week on Wednesday and lasts about an hour or so depending on what we are discussing.
URL:https://maplecreekhoa.com/event/book-club-2026-08-12/
LOCATION:Clubhouse\, Deer Valley Dr\, Cornelius\, NC\, 28031\, United States
END:VEVENT
BEGIN:VEVENT
DTSTART;TZID=America/New_York:20260819T190000
DTEND;TZID=America/New_York:20260819T200000
DTSTAMP:20260420T234012
CREATED:20170612T193903Z
LAST-MODIFIED:20170612T193903Z
UID:888-1787166000-1787169600@maplecreekhoa.com
SUMMARY:Book Club
DESCRIPTION:Weekly book club meeting at the community clubhouse. This club meets every week on Wednesday and lasts about an hour or so depending on what we are discussing.
URL:https://maplecreekhoa.com/event/book-club-2026-08-19/
LOCATION:Clubhouse\, Deer Valley Dr\, Cornelius\, NC\, 28031\, United States
END:VEVENT
BEGIN:VEVENT
DTSTART;TZID=America/New_York:20260826T190000
DTEND;TZID=America/New_York:20260826T200000
DTSTAMP:20260420T234012
CREATED:20170612T193903Z
LAST-MODIFIED:20170612T193903Z
UID:889-1787770800-1787774400@maplecreekhoa.com
SUMMARY:Book Club
DESCRIPTION:Weekly book club meeting at the community clubhouse. This club meets every week on Wednesday and lasts about an hour or so depending on what we are discussing.
URL:https://maplecreekhoa.com/event/book-club-2026-08-26/
LOCATION:Clubhouse\, Deer Valley Dr\, Cornelius\, NC\, 28031\, United States
END:VEVENT
BEGIN:VEVENT
DTSTART;TZID=America/New_York:20260902T190000
DTEND;TZID=America/New_York:20260902T200000
DTSTAMP:20260420T234012
CREATED:20170612T193903Z
LAST-MODIFIED:20170612T193903Z
UID:890-1788375600-1788379200@maplecreekhoa.com
SUMMARY:Book Club
DESCRIPTION:Weekly book club meeting at the community clubhouse. This club meets every week on Wednesday and lasts about an hour or so depending on what we are discussing.
URL:https://maplecreekhoa.com/event/book-club-2026-09-02/
LOCATION:Clubhouse\, Deer Valley Dr\, Cornelius\, NC\, 28031\, United States
END:VEVENT
BEGIN:VEVENT
DTSTART;TZID=America/New_York:20260909T190000
DTEND;TZID=America/New_York:20260909T200000
DTSTAMP:20260420T234012
CREATED:20170612T193903Z
LAST-MODIFIED:20170612T193903Z
UID:892-1788980400-1788984000@maplecreekhoa.com
SUMMARY:Book Club
DESCRIPTION:Weekly book club meeting at the community clubhouse. This club meets every week on Wednesday and lasts about an hour or so depending on what we are discussing.
URL:https://maplecreekhoa.com/event/book-club-2026-09-09/
LOCATION:Clubhouse\, Deer Valley Dr\, Cornelius\, NC\, 28031\, United States
END:VEVENT
BEGIN:VEVENT
DTSTART;TZID=America/New_York:20260916T190000
DTEND;TZID=America/New_York:20260916T200000
DTSTAMP:20260420T234012
CREATED:20170612T193903Z
LAST-MODIFIED:20170612T193903Z
UID:893-1789585200-1789588800@maplecreekhoa.com
SUMMARY:Book Club
DESCRIPTION:Weekly book club meeting at the community clubhouse. This club meets every week on Wednesday and lasts about an hour or so depending on what we are discussing.
URL:https://maplecreekhoa.com/event/book-club-2026-09-16/
LOCATION:Clubhouse\, Deer Valley Dr\, Cornelius\, NC\, 28031\, United States
END:VEVENT
BEGIN:VEVENT
DTSTART;TZID=America/New_York:20260923T190000
DTEND;TZID=America/New_York:20260923T200000
DTSTAMP:20260420T234012
CREATED:20170612T193903Z
LAST-MODIFIED:20170612T193903Z
UID:894-1790190000-1790193600@maplecreekhoa.com
SUMMARY:Book Club
DESCRIPTION:Weekly book club meeting at the community clubhouse. This club meets every week on Wednesday and lasts about an hour or so depending on what we are discussing.
URL:https://maplecreekhoa.com/event/book-club-2026-09-23/
LOCATION:Clubhouse\, Deer Valley Dr\, Cornelius\, NC\, 28031\, United States
END:VEVENT
END:VCALENDAR