BEGIN:VCALENDAR
VERSION:2.0
PRODID:-//Maple Creek HOA - ECPv6.15.12.2//NONSGML v1.0//EN
CALSCALE:GREGORIAN
METHOD:PUBLISH
X-ORIGINAL-URL:https://maplecreekhoa.com
X-WR-CALDESC:Events for Maple Creek HOA
REFRESH-INTERVAL;VALUE=DURATION:PT1H
X-Robots-Tag:noindex
X-PUBLISHED-TTL:PT1H
BEGIN:VTIMEZONE
TZID:America/New_York
BEGIN:DAYLIGHT
TZOFFSETFROM:-0500
TZOFFSETTO:-0400
TZNAME:EDT
DTSTART:20240310T070000
END:DAYLIGHT
BEGIN:STANDARD
TZOFFSETFROM:-0400
TZOFFSETTO:-0500
TZNAME:EST
DTSTART:20241103T060000
END:STANDARD
BEGIN:DAYLIGHT
TZOFFSETFROM:-0500
TZOFFSETTO:-0400
TZNAME:EDT
DTSTART:20250309T070000
END:DAYLIGHT
BEGIN:STANDARD
TZOFFSETFROM:-0400
TZOFFSETTO:-0500
TZNAME:EST
DTSTART:20251102T060000
END:STANDARD
BEGIN:DAYLIGHT
TZOFFSETFROM:-0500
TZOFFSETTO:-0400
TZNAME:EDT
DTSTART:20260308T070000
END:DAYLIGHT
BEGIN:STANDARD
TZOFFSETFROM:-0400
TZOFFSETTO:-0500
TZNAME:EST
DTSTART:20261101T060000
END:STANDARD
BEGIN:DAYLIGHT
TZOFFSETFROM:-0500
TZOFFSETTO:-0400
TZNAME:EDT
DTSTART:20270314T070000
END:DAYLIGHT
BEGIN:STANDARD
TZOFFSETFROM:-0400
TZOFFSETTO:-0500
TZNAME:EST
DTSTART:20271107T060000
END:STANDARD
END:VTIMEZONE
BEGIN:VEVENT
DTSTART;TZID=America/New_York:20251126T190000
DTEND;TZID=America/New_York:20251126T200000
DTSTAMP:20260424T110216
CREATED:20170612T193903Z
LAST-MODIFIED:20170612T193903Z
UID:848-1764183600-1764187200@maplecreekhoa.com
SUMMARY:Book Club
DESCRIPTION:Weekly book club meeting at the community clubhouse. This club meets every week on Wednesday and lasts about an hour or so depending on what we are discussing.
URL:https://maplecreekhoa.com/event/book-club-2025-11-26/
LOCATION:Clubhouse\, Deer Valley Dr\, Cornelius\, NC\, 28031\, United States
END:VEVENT
BEGIN:VEVENT
DTSTART;TZID=America/New_York:20251203T190000
DTEND;TZID=America/New_York:20251203T200000
DTSTAMP:20260424T110216
CREATED:20170612T193903Z
LAST-MODIFIED:20170612T193903Z
UID:849-1764788400-1764792000@maplecreekhoa.com
SUMMARY:Book Club
DESCRIPTION:Weekly book club meeting at the community clubhouse. This club meets every week on Wednesday and lasts about an hour or so depending on what we are discussing.
URL:https://maplecreekhoa.com/event/book-club-2025-12-03/
LOCATION:Clubhouse\, Deer Valley Dr\, Cornelius\, NC\, 28031\, United States
END:VEVENT
BEGIN:VEVENT
DTSTART;TZID=America/New_York:20251210T190000
DTEND;TZID=America/New_York:20251210T200000
DTSTAMP:20260424T110216
CREATED:20170612T193903Z
LAST-MODIFIED:20170612T193903Z
UID:850-1765393200-1765396800@maplecreekhoa.com
SUMMARY:Book Club
DESCRIPTION:Weekly book club meeting at the community clubhouse. This club meets every week on Wednesday and lasts about an hour or so depending on what we are discussing.
URL:https://maplecreekhoa.com/event/book-club-2025-12-10/
LOCATION:Clubhouse\, Deer Valley Dr\, Cornelius\, NC\, 28031\, United States
END:VEVENT
BEGIN:VEVENT
DTSTART;TZID=America/New_York:20251217T190000
DTEND;TZID=America/New_York:20251217T200000
DTSTAMP:20260424T110216
CREATED:20170612T193903Z
LAST-MODIFIED:20170612T193903Z
UID:851-1765998000-1766001600@maplecreekhoa.com
SUMMARY:Book Club
DESCRIPTION:Weekly book club meeting at the community clubhouse. This club meets every week on Wednesday and lasts about an hour or so depending on what we are discussing.
URL:https://maplecreekhoa.com/event/book-club-2025-12-17/
LOCATION:Clubhouse\, Deer Valley Dr\, Cornelius\, NC\, 28031\, United States
END:VEVENT
BEGIN:VEVENT
DTSTART;TZID=America/New_York:20251224T190000
DTEND;TZID=America/New_York:20251224T200000
DTSTAMP:20260424T110216
CREATED:20170612T193903Z
LAST-MODIFIED:20170612T193903Z
UID:852-1766602800-1766606400@maplecreekhoa.com
SUMMARY:Book Club
DESCRIPTION:Weekly book club meeting at the community clubhouse. This club meets every week on Wednesday and lasts about an hour or so depending on what we are discussing.
URL:https://maplecreekhoa.com/event/book-club-2025-12-24/
LOCATION:Clubhouse\, Deer Valley Dr\, Cornelius\, NC\, 28031\, United States
END:VEVENT
BEGIN:VEVENT
DTSTART;TZID=America/New_York:20251231T190000
DTEND;TZID=America/New_York:20251231T200000
DTSTAMP:20260424T110216
CREATED:20170612T193903Z
LAST-MODIFIED:20170612T193903Z
UID:853-1767207600-1767211200@maplecreekhoa.com
SUMMARY:Book Club
DESCRIPTION:Weekly book club meeting at the community clubhouse. This club meets every week on Wednesday and lasts about an hour or so depending on what we are discussing.
URL:https://maplecreekhoa.com/event/book-club-2025-12-31/
LOCATION:Clubhouse\, Deer Valley Dr\, Cornelius\, NC\, 28031\, United States
END:VEVENT
BEGIN:VEVENT
DTSTART;TZID=America/New_York:20260107T190000
DTEND;TZID=America/New_York:20260107T200000
DTSTAMP:20260424T110216
CREATED:20170612T193903Z
LAST-MODIFIED:20170612T193903Z
UID:854-1767812400-1767816000@maplecreekhoa.com
SUMMARY:Book Club
DESCRIPTION:Weekly book club meeting at the community clubhouse. This club meets every week on Wednesday and lasts about an hour or so depending on what we are discussing.
URL:https://maplecreekhoa.com/event/book-club-2026-01-07/
LOCATION:Clubhouse\, Deer Valley Dr\, Cornelius\, NC\, 28031\, United States
END:VEVENT
BEGIN:VEVENT
DTSTART;TZID=America/New_York:20260114T190000
DTEND;TZID=America/New_York:20260114T200000
DTSTAMP:20260424T110216
CREATED:20170612T193903Z
LAST-MODIFIED:20170612T193903Z
UID:856-1768417200-1768420800@maplecreekhoa.com
SUMMARY:Book Club
DESCRIPTION:Weekly book club meeting at the community clubhouse. This club meets every week on Wednesday and lasts about an hour or so depending on what we are discussing.
URL:https://maplecreekhoa.com/event/book-club-2026-01-14/
LOCATION:Clubhouse\, Deer Valley Dr\, Cornelius\, NC\, 28031\, United States
END:VEVENT
BEGIN:VEVENT
DTSTART;TZID=America/New_York:20260121T190000
DTEND;TZID=America/New_York:20260121T200000
DTSTAMP:20260424T110216
CREATED:20170612T193903Z
LAST-MODIFIED:20170612T193903Z
UID:857-1769022000-1769025600@maplecreekhoa.com
SUMMARY:Book Club
DESCRIPTION:Weekly book club meeting at the community clubhouse. This club meets every week on Wednesday and lasts about an hour or so depending on what we are discussing.
URL:https://maplecreekhoa.com/event/book-club-2026-01-21/
LOCATION:Clubhouse\, Deer Valley Dr\, Cornelius\, NC\, 28031\, United States
END:VEVENT
BEGIN:VEVENT
DTSTART;TZID=America/New_York:20260128T190000
DTEND;TZID=America/New_York:20260128T200000
DTSTAMP:20260424T110216
CREATED:20170612T193903Z
LAST-MODIFIED:20170612T193903Z
UID:858-1769626800-1769630400@maplecreekhoa.com
SUMMARY:Book Club
DESCRIPTION:Weekly book club meeting at the community clubhouse. This club meets every week on Wednesday and lasts about an hour or so depending on what we are discussing.
URL:https://maplecreekhoa.com/event/book-club-2026-01-28/
LOCATION:Clubhouse\, Deer Valley Dr\, Cornelius\, NC\, 28031\, United States
END:VEVENT
BEGIN:VEVENT
DTSTART;TZID=America/New_York:20260204T190000
DTEND;TZID=America/New_York:20260204T200000
DTSTAMP:20260424T110216
CREATED:20170612T193903Z
LAST-MODIFIED:20170612T193903Z
UID:859-1770231600-1770235200@maplecreekhoa.com
SUMMARY:Book Club
DESCRIPTION:Weekly book club meeting at the community clubhouse. This club meets every week on Wednesday and lasts about an hour or so depending on what we are discussing.
URL:https://maplecreekhoa.com/event/book-club-2026-02-04/
LOCATION:Clubhouse\, Deer Valley Dr\, Cornelius\, NC\, 28031\, United States
END:VEVENT
BEGIN:VEVENT
DTSTART;TZID=America/New_York:20260211T190000
DTEND;TZID=America/New_York:20260211T200000
DTSTAMP:20260424T110216
CREATED:20170612T193903Z
LAST-MODIFIED:20170612T193903Z
UID:860-1770836400-1770840000@maplecreekhoa.com
SUMMARY:Book Club
DESCRIPTION:Weekly book club meeting at the community clubhouse. This club meets every week on Wednesday and lasts about an hour or so depending on what we are discussing.
URL:https://maplecreekhoa.com/event/book-club-2026-02-11/
LOCATION:Clubhouse\, Deer Valley Dr\, Cornelius\, NC\, 28031\, United States
END:VEVENT
BEGIN:VEVENT
DTSTART;TZID=America/New_York:20260218T190000
DTEND;TZID=America/New_York:20260218T200000
DTSTAMP:20260424T110216
CREATED:20170612T193903Z
LAST-MODIFIED:20170612T193903Z
UID:861-1771441200-1771444800@maplecreekhoa.com
SUMMARY:Book Club
DESCRIPTION:Weekly book club meeting at the community clubhouse. This club meets every week on Wednesday and lasts about an hour or so depending on what we are discussing.
URL:https://maplecreekhoa.com/event/book-club-2026-02-18/
LOCATION:Clubhouse\, Deer Valley Dr\, Cornelius\, NC\, 28031\, United States
END:VEVENT
BEGIN:VEVENT
DTSTART;TZID=America/New_York:20260225T190000
DTEND;TZID=America/New_York:20260225T200000
DTSTAMP:20260424T110216
CREATED:20170612T193903Z
LAST-MODIFIED:20170612T193903Z
UID:862-1772046000-1772049600@maplecreekhoa.com
SUMMARY:Book Club
DESCRIPTION:Weekly book club meeting at the community clubhouse. This club meets every week on Wednesday and lasts about an hour or so depending on what we are discussing.
URL:https://maplecreekhoa.com/event/book-club-2026-02-25/
LOCATION:Clubhouse\, Deer Valley Dr\, Cornelius\, NC\, 28031\, United States
END:VEVENT
BEGIN:VEVENT
DTSTART;TZID=America/New_York:20260304T190000
DTEND;TZID=America/New_York:20260304T200000
DTSTAMP:20260424T110216
CREATED:20170612T193903Z
LAST-MODIFIED:20170612T193903Z
UID:863-1772650800-1772654400@maplecreekhoa.com
SUMMARY:Book Club
DESCRIPTION:Weekly book club meeting at the community clubhouse. This club meets every week on Wednesday and lasts about an hour or so depending on what we are discussing.
URL:https://maplecreekhoa.com/event/book-club-2026-03-04/
LOCATION:Clubhouse\, Deer Valley Dr\, Cornelius\, NC\, 28031\, United States
END:VEVENT
BEGIN:VEVENT
DTSTART;TZID=America/New_York:20260311T190000
DTEND;TZID=America/New_York:20260311T200000
DTSTAMP:20260424T110216
CREATED:20170612T193903Z
LAST-MODIFIED:20170612T193903Z
UID:864-1773255600-1773259200@maplecreekhoa.com
SUMMARY:Book Club
DESCRIPTION:Weekly book club meeting at the community clubhouse. This club meets every week on Wednesday and lasts about an hour or so depending on what we are discussing.
URL:https://maplecreekhoa.com/event/book-club-2026-03-11/
LOCATION:Clubhouse\, Deer Valley Dr\, Cornelius\, NC\, 28031\, United States
END:VEVENT
BEGIN:VEVENT
DTSTART;TZID=America/New_York:20260318T190000
DTEND;TZID=America/New_York:20260318T200000
DTSTAMP:20260424T110216
CREATED:20170612T193903Z
LAST-MODIFIED:20170612T193903Z
UID:865-1773860400-1773864000@maplecreekhoa.com
SUMMARY:Book Club
DESCRIPTION:Weekly book club meeting at the community clubhouse. This club meets every week on Wednesday and lasts about an hour or so depending on what we are discussing.
URL:https://maplecreekhoa.com/event/book-club-2026-03-18/
LOCATION:Clubhouse\, Deer Valley Dr\, Cornelius\, NC\, 28031\, United States
END:VEVENT
BEGIN:VEVENT
DTSTART;TZID=America/New_York:20260325T190000
DTEND;TZID=America/New_York:20260325T200000
DTSTAMP:20260424T110216
CREATED:20170612T193903Z
LAST-MODIFIED:20170612T193903Z
UID:866-1774465200-1774468800@maplecreekhoa.com
SUMMARY:Book Club
DESCRIPTION:Weekly book club meeting at the community clubhouse. This club meets every week on Wednesday and lasts about an hour or so depending on what we are discussing.
URL:https://maplecreekhoa.com/event/book-club-2026-03-25/
LOCATION:Clubhouse\, Deer Valley Dr\, Cornelius\, NC\, 28031\, United States
END:VEVENT
BEGIN:VEVENT
DTSTART;TZID=America/New_York:20260401T190000
DTEND;TZID=America/New_York:20260401T200000
DTSTAMP:20260424T110216
CREATED:20170612T193903Z
LAST-MODIFIED:20170612T193903Z
UID:867-1775070000-1775073600@maplecreekhoa.com
SUMMARY:Book Club
DESCRIPTION:Weekly book club meeting at the community clubhouse. This club meets every week on Wednesday and lasts about an hour or so depending on what we are discussing.
URL:https://maplecreekhoa.com/event/book-club-2026-04-01/
LOCATION:Clubhouse\, Deer Valley Dr\, Cornelius\, NC\, 28031\, United States
END:VEVENT
BEGIN:VEVENT
DTSTART;TZID=America/New_York:20260408T190000
DTEND;TZID=America/New_York:20260408T200000
DTSTAMP:20260424T110216
CREATED:20170612T193903Z
LAST-MODIFIED:20170612T193903Z
UID:868-1775674800-1775678400@maplecreekhoa.com
SUMMARY:Book Club
DESCRIPTION:Weekly book club meeting at the community clubhouse. This club meets every week on Wednesday and lasts about an hour or so depending on what we are discussing.
URL:https://maplecreekhoa.com/event/book-club-2026-04-08/
LOCATION:Clubhouse\, Deer Valley Dr\, Cornelius\, NC\, 28031\, United States
END:VEVENT
BEGIN:VEVENT
DTSTART;TZID=America/New_York:20260415T190000
DTEND;TZID=America/New_York:20260415T200000
DTSTAMP:20260424T110216
CREATED:20170612T193903Z
LAST-MODIFIED:20170612T193903Z
UID:869-1776279600-1776283200@maplecreekhoa.com
SUMMARY:Book Club
DESCRIPTION:Weekly book club meeting at the community clubhouse. This club meets every week on Wednesday and lasts about an hour or so depending on what we are discussing.
URL:https://maplecreekhoa.com/event/book-club-2026-04-15/
LOCATION:Clubhouse\, Deer Valley Dr\, Cornelius\, NC\, 28031\, United States
END:VEVENT
BEGIN:VEVENT
DTSTART;TZID=America/New_York:20260422T190000
DTEND;TZID=America/New_York:20260422T200000
DTSTAMP:20260424T110216
CREATED:20170612T193903Z
LAST-MODIFIED:20170612T193903Z
UID:870-1776884400-1776888000@maplecreekhoa.com
SUMMARY:Book Club
DESCRIPTION:Weekly book club meeting at the community clubhouse. This club meets every week on Wednesday and lasts about an hour or so depending on what we are discussing.
URL:https://maplecreekhoa.com/event/book-club-2026-04-22/
LOCATION:Clubhouse\, Deer Valley Dr\, Cornelius\, NC\, 28031\, United States
END:VEVENT
BEGIN:VEVENT
DTSTART;TZID=America/New_York:20260429T190000
DTEND;TZID=America/New_York:20260429T200000
DTSTAMP:20260424T110216
CREATED:20170612T193903Z
LAST-MODIFIED:20170612T193903Z
UID:871-1777489200-1777492800@maplecreekhoa.com
SUMMARY:Book Club
DESCRIPTION:Weekly book club meeting at the community clubhouse. This club meets every week on Wednesday and lasts about an hour or so depending on what we are discussing.
URL:https://maplecreekhoa.com/event/book-club-2026-04-29/
LOCATION:Clubhouse\, Deer Valley Dr\, Cornelius\, NC\, 28031\, United States
END:VEVENT
BEGIN:VEVENT
DTSTART;TZID=America/New_York:20260506T190000
DTEND;TZID=America/New_York:20260506T200000
DTSTAMP:20260424T110216
CREATED:20170612T193903Z
LAST-MODIFIED:20170612T193903Z
UID:872-1778094000-1778097600@maplecreekhoa.com
SUMMARY:Book Club
DESCRIPTION:Weekly book club meeting at the community clubhouse. This club meets every week on Wednesday and lasts about an hour or so depending on what we are discussing.
URL:https://maplecreekhoa.com/event/book-club-2026-05-06/
LOCATION:Clubhouse\, Deer Valley Dr\, Cornelius\, NC\, 28031\, United States
END:VEVENT
BEGIN:VEVENT
DTSTART;TZID=America/New_York:20260513T190000
DTEND;TZID=America/New_York:20260513T200000
DTSTAMP:20260424T110216
CREATED:20170612T193903Z
LAST-MODIFIED:20170612T193903Z
UID:873-1778698800-1778702400@maplecreekhoa.com
SUMMARY:Book Club
DESCRIPTION:Weekly book club meeting at the community clubhouse. This club meets every week on Wednesday and lasts about an hour or so depending on what we are discussing.
URL:https://maplecreekhoa.com/event/book-club-2026-05-13/
LOCATION:Clubhouse\, Deer Valley Dr\, Cornelius\, NC\, 28031\, United States
END:VEVENT
BEGIN:VEVENT
DTSTART;TZID=America/New_York:20260520T190000
DTEND;TZID=America/New_York:20260520T200000
DTSTAMP:20260424T110216
CREATED:20170612T193903Z
LAST-MODIFIED:20170612T193903Z
UID:874-1779303600-1779307200@maplecreekhoa.com
SUMMARY:Book Club
DESCRIPTION:Weekly book club meeting at the community clubhouse. This club meets every week on Wednesday and lasts about an hour or so depending on what we are discussing.
URL:https://maplecreekhoa.com/event/book-club-2026-05-20/
LOCATION:Clubhouse\, Deer Valley Dr\, Cornelius\, NC\, 28031\, United States
END:VEVENT
BEGIN:VEVENT
DTSTART;TZID=America/New_York:20260527T190000
DTEND;TZID=America/New_York:20260527T200000
DTSTAMP:20260424T110216
CREATED:20170612T193903Z
LAST-MODIFIED:20170612T193903Z
UID:875-1779908400-1779912000@maplecreekhoa.com
SUMMARY:Book Club
DESCRIPTION:Weekly book club meeting at the community clubhouse. This club meets every week on Wednesday and lasts about an hour or so depending on what we are discussing.
URL:https://maplecreekhoa.com/event/book-club-2026-05-27/
LOCATION:Clubhouse\, Deer Valley Dr\, Cornelius\, NC\, 28031\, United States
END:VEVENT
BEGIN:VEVENT
DTSTART;TZID=America/New_York:20260603T190000
DTEND;TZID=America/New_York:20260603T200000
DTSTAMP:20260424T110216
CREATED:20170612T193903Z
LAST-MODIFIED:20170612T193903Z
UID:876-1780513200-1780516800@maplecreekhoa.com
SUMMARY:Book Club
DESCRIPTION:Weekly book club meeting at the community clubhouse. This club meets every week on Wednesday and lasts about an hour or so depending on what we are discussing.
URL:https://maplecreekhoa.com/event/book-club-2026-06-03/
LOCATION:Clubhouse\, Deer Valley Dr\, Cornelius\, NC\, 28031\, United States
END:VEVENT
BEGIN:VEVENT
DTSTART;TZID=America/New_York:20260610T190000
DTEND;TZID=America/New_York:20260610T200000
DTSTAMP:20260424T110216
CREATED:20170612T193903Z
LAST-MODIFIED:20170612T193903Z
UID:877-1781118000-1781121600@maplecreekhoa.com
SUMMARY:Book Club
DESCRIPTION:Weekly book club meeting at the community clubhouse. This club meets every week on Wednesday and lasts about an hour or so depending on what we are discussing.
URL:https://maplecreekhoa.com/event/book-club-2026-06-10/
LOCATION:Clubhouse\, Deer Valley Dr\, Cornelius\, NC\, 28031\, United States
END:VEVENT
BEGIN:VEVENT
DTSTART;TZID=America/New_York:20260617T190000
DTEND;TZID=America/New_York:20260617T200000
DTSTAMP:20260424T110216
CREATED:20170612T193903Z
LAST-MODIFIED:20170612T193903Z
UID:878-1781722800-1781726400@maplecreekhoa.com
SUMMARY:Book Club
DESCRIPTION:Weekly book club meeting at the community clubhouse. This club meets every week on Wednesday and lasts about an hour or so depending on what we are discussing.
URL:https://maplecreekhoa.com/event/book-club-2026-06-17/
LOCATION:Clubhouse\, Deer Valley Dr\, Cornelius\, NC\, 28031\, United States
END:VEVENT
END:VCALENDAR